BEGIN:VCALENDAR
VERSION:2.0
PRODID:-//Simply Jackson - UK Number One Michael Jackson Tribute Act - ECPv6.15.20//NONSGML v1.0//EN
CALSCALE:GREGORIAN
METHOD:PUBLISH
X-WR-CALNAME:Simply Jackson - UK Number One Michael Jackson Tribute Act
X-ORIGINAL-URL:https://www.simplyjackson.co.uk
X-WR-CALDESC:Events for Simply Jackson - UK Number One Michael Jackson Tribute Act
REFRESH-INTERVAL;VALUE=DURATION:PT1H
X-Robots-Tag:noindex
X-PUBLISHED-TTL:PT1H
BEGIN:VTIMEZONE
TZID:UTC
BEGIN:STANDARD
TZOFFSETFROM:+0000
TZOFFSETTO:+0000
TZNAME:UTC
DTSTART:20250101T000000
END:STANDARD
END:VTIMEZONE
BEGIN:VEVENT
DTSTART;VALUE=DATE:20260426
DTEND;VALUE=DATE:20260427
DTSTAMP:20260423T135039
CREATED:20260409T191847Z
LAST-MODIFIED:20260409T192037Z
UID:1576-1777161600-1777247999@www.simplyjackson.co.uk
SUMMARY:rehearsals
DESCRIPTION:
URL:https://www.simplyjackson.co.uk/event/rehearsals/
END:VEVENT
BEGIN:VEVENT
DTSTART;TZID=UTC:20260430T193000
DTEND;TZID=UTC:20260430T193000
DTSTAMP:20260423T135039
CREATED:20260202T163517Z
LAST-MODIFIED:20260202T163702Z
UID:1509-1777577400-1777577400@www.simplyjackson.co.uk
SUMMARY:THEATRE SHOW Jackson at The Maltings ELY
DESCRIPTION:The Maltings Ship Ln\, ELY CB7 4BB
URL:https://www.simplyjackson.co.uk/event/theatre-show-jackson-at-the-maltings-ely/
END:VEVENT
BEGIN:VEVENT
DTSTART;TZID=UTC:20260508T193000
DTEND;TZID=UTC:20260508T193000
DTSTAMP:20260423T135039
CREATED:20260202T163840Z
LAST-MODIFIED:20260202T163924Z
UID:1513-1778268600-1778268600@www.simplyjackson.co.uk
SUMMARY:THEATRE SHOW Jackson at MMC Venue Mountsorrel
DESCRIPTION:MMC Venue\n105 Leicester Rd\, Mountsorrel\, Loughborough LE12 7DB
URL:https://www.simplyjackson.co.uk/event/theatre-show-jackson-at-mmc-venue-mountsorrel/
END:VEVENT
BEGIN:VEVENT
DTSTART;TZID=UTC:20260509T210000
DTEND;TZID=UTC:20260509T210000
DTSTAMP:20260423T135039
CREATED:20260203T180636Z
LAST-MODIFIED:20260203T180649Z
UID:1539-1778360400-1778360400@www.simplyjackson.co.uk
SUMMARY:Uckfield Cinque Ports Club
DESCRIPTION:186 High St\, Uckfield TN22 1AU
URL:https://www.simplyjackson.co.uk/event/uckfield-cinque-ports-club-4/
END:VEVENT
BEGIN:VEVENT
DTSTART;TZID=UTC:20260522T210000
DTEND;TZID=UTC:20260522T210000
DTSTAMP:20260423T135039
CREATED:20260419T204140Z
LAST-MODIFIED:20260419T204232Z
UID:1587-1779483600-1779483600@www.simplyjackson.co.uk
SUMMARY:Fressingfield Swan
DESCRIPTION:Harleston Road\, Fressingfield\, Eye IP21 5PE
URL:https://www.simplyjackson.co.uk/event/fressingfield-swan/
END:VEVENT
END:VCALENDAR